BEGIN:VCALENDAR
VERSION:2.0
PRODID:-//Sri Gopinath Gaudiya Math - ECPv6.15.18//NONSGML v1.0//EN
CALSCALE:GREGORIAN
METHOD:PUBLISH
X-ORIGINAL-URL:https://www.gopinathgaudiyamath.com
X-WR-CALDESC:Events for Sri Gopinath Gaudiya Math
REFRESH-INTERVAL;VALUE=DURATION:PT1H
X-Robots-Tag:noindex
X-PUBLISHED-TTL:PT1H
BEGIN:VTIMEZONE
TZID:Asia/Kolkata
BEGIN:STANDARD
TZOFFSETFROM:+0530
TZOFFSETTO:+0530
TZNAME:IST
DTSTART:20240101T000000
END:STANDARD
END:VTIMEZONE
BEGIN:VEVENT
DTSTART;VALUE=DATE:20250410
DTEND;VALUE=DATE:20250921
DTSTAMP:20260423T200016
CREATED:20250531T071126Z
LAST-MODIFIED:20250531T071257Z
UID:14185-1744243200-1758412799@www.gopinathgaudiyamath.com
SUMMARY:Srila Gurudev's International Tour
DESCRIPTION:
URL:https://www.gopinathgaudiyamath.com/event/srila-gurudevs-international-tour/
ATTACH;FMTTYPE=image/jpeg:https://www.gopinathgaudiyamath.com/wp-content/uploads/2025/05/123456.jpg
END:VEVENT
BEGIN:VEVENT
DTSTART;VALUE=DATE:20250830
DTEND;VALUE=DATE:20250905
DTSTAMP:20260423T200016
CREATED:20241128T053719Z
LAST-MODIFIED:20241128T053719Z
UID:13908-1756512000-1757030399@www.gopinathgaudiyamath.com
SUMMARY:Caucaliere (France) Tour 2025
DESCRIPTION:Contact- \nAnuradha dasi \ninfo@anuradhamudra.com
URL:https://www.gopinathgaudiyamath.com/event/caucaliere-france-tour-2025/
END:VEVENT
BEGIN:VEVENT
DTSTART;VALUE=DATE:20250904
DTEND;VALUE=DATE:20250910
DTSTAMP:20260423T200016
CREATED:20241128T053848Z
LAST-MODIFIED:20241128T053848Z
UID:13911-1756944000-1757462399@www.gopinathgaudiyamath.com
SUMMARY:Mirepoix (France) Tour 2025
DESCRIPTION:Arati devi & Murti Prabhuji\nsrimurti26@gmail.com\nolihaliche@gmail.com
URL:https://www.gopinathgaudiyamath.com/event/mirepoix-france-tour-2025/
END:VEVENT
BEGIN:VEVENT
DTSTART;VALUE=DATE:20250909
DTEND;VALUE=DATE:20250913
DTSTAMP:20260423T200016
CREATED:20241128T054110Z
LAST-MODIFIED:20241128T054237Z
UID:13914-1757376000-1757721599@www.gopinathgaudiyamath.com
SUMMARY:Holland Tour 2025
DESCRIPTION:Contact – \nRadha Devi \n+31 6 42104259
URL:https://www.gopinathgaudiyamath.com/event/holland-tour-2025/
END:VEVENT
BEGIN:VEVENT
DTSTART;VALUE=DATE:20250912
DTEND;VALUE=DATE:20250915
DTSTAMP:20260423T200016
CREATED:20241128T060552Z
LAST-MODIFIED:20241128T060552Z
UID:13919-1757635200-1757894399@www.gopinathgaudiyamath.com
SUMMARY:Koln/Dusseldorf Tour 2025
DESCRIPTION:Contact – \nMadhusudan prabhu \n+49 1575 6051844
URL:https://www.gopinathgaudiyamath.com/event/koln-dusseldorf-tour-2025/
END:VEVENT
BEGIN:VEVENT
DTSTART;VALUE=DATE:20250914
DTEND;VALUE=DATE:20250917
DTSTAMP:20260423T200016
CREATED:20241128T060718Z
LAST-MODIFIED:20241128T060718Z
UID:13921-1757808000-1758067199@www.gopinathgaudiyamath.com
SUMMARY:Germany - Berlin Tour 2025
DESCRIPTION:Contact – \nArundhati devi \n49 1575 181 2958
URL:https://www.gopinathgaudiyamath.com/event/germany-berlin-tour-2025/
END:VEVENT
BEGIN:VEVENT
DTSTART;VALUE=DATE:20250916
DTEND;VALUE=DATE:20250921
DTSTAMP:20260423T200016
CREATED:20241128T060919Z
LAST-MODIFIED:20241128T060919Z
UID:13924-1757980800-1758412799@www.gopinathgaudiyamath.com
SUMMARY:Vienna Tour 2025
DESCRIPTION:Contact – \nSripad Nishta Madhusudan Maharaj Vienna\n+43 681 81262108
URL:https://www.gopinathgaudiyamath.com/event/vienna-tour-2025/
END:VEVENT
END:VCALENDAR