BEGIN:VCALENDAR
VERSION:2.0
PRODID:-//Sri Gopinath Gaudiya Math - ECPv6.15.18//NONSGML v1.0//EN
CALSCALE:GREGORIAN
METHOD:PUBLISH
X-ORIGINAL-URL:https://www.gopinathgaudiyamath.com
X-WR-CALDESC:Events for Sri Gopinath Gaudiya Math
REFRESH-INTERVAL;VALUE=DURATION:PT1H
X-Robots-Tag:noindex
X-PUBLISHED-TTL:PT1H
BEGIN:VTIMEZONE
TZID:Asia/Kolkata
BEGIN:STANDARD
TZOFFSETFROM:+0530
TZOFFSETTO:+0530
TZNAME:IST
DTSTART:20250101T000000
END:STANDARD
END:VTIMEZONE
BEGIN:VEVENT
DTSTART;VALUE=DATE:20260626
DTEND;VALUE=DATE:20260704
DTSTAMP:20260423T225942
CREATED:20260211T172150Z
LAST-MODIFIED:20260211T172150Z
UID:14364-1782432000-1783123199@www.gopinathgaudiyamath.com
SUMMARY:France - Mirepoix
DESCRIPTION:Arati devi\nsrimurti26@gmail.com\n33 634 364 212
URL:https://www.gopinathgaudiyamath.com/event/france-mirepoix/
END:VEVENT
END:VCALENDAR