BEGIN:VCALENDAR
VERSION:2.0
PRODID:-//Sri Gopinath Gaudiya Math - ECPv6.15.18//NONSGML v1.0//EN
CALSCALE:GREGORIAN
METHOD:PUBLISH
X-ORIGINAL-URL:https://www.gopinathgaudiyamath.com
X-WR-CALDESC:Events for Sri Gopinath Gaudiya Math
REFRESH-INTERVAL;VALUE=DURATION:PT1H
X-Robots-Tag:noindex
X-PUBLISHED-TTL:PT1H
BEGIN:VTIMEZONE
TZID:Asia/Kolkata
BEGIN:STANDARD
TZOFFSETFROM:+0530
TZOFFSETTO:+0530
TZNAME:IST
DTSTART:20250101T000000
END:STANDARD
END:VTIMEZONE
BEGIN:VEVENT
DTSTART;VALUE=DATE:20260617
DTEND;VALUE=DATE:20260623
DTSTAMP:20260423T225802
CREATED:20260211T171900Z
LAST-MODIFIED:20260211T171900Z
UID:14359-1781654400-1782172799@www.gopinathgaudiyamath.com
SUMMARY:Holland 2026
DESCRIPTION:Radha dasi\n31 6 42 104 259
URL:https://www.gopinathgaudiyamath.com/event/holland-2026/
END:VEVENT
END:VCALENDAR