BEGIN:VCALENDAR
VERSION:2.0
PRODID:-//Sri Gopinath Gaudiya Math - ECPv6.15.18//NONSGML v1.0//EN
CALSCALE:GREGORIAN
METHOD:PUBLISH
X-WR-CALNAME:Sri Gopinath Gaudiya Math
X-ORIGINAL-URL:https://www.gopinathgaudiyamath.com
X-WR-CALDESC:Events for Sri Gopinath Gaudiya Math
REFRESH-INTERVAL;VALUE=DURATION:PT1H
X-Robots-Tag:noindex
X-PUBLISHED-TTL:PT1H
BEGIN:VTIMEZONE
TZID:Asia/Kolkata
BEGIN:STANDARD
TZOFFSETFROM:+0530
TZOFFSETTO:+0530
TZNAME:IST
DTSTART:20240101T000000
END:STANDARD
END:VTIMEZONE
BEGIN:VEVENT
DTSTART;VALUE=DATE:20250410
DTEND;VALUE=DATE:20250921
DTSTAMP:20260424T031915
CREATED:20250531T071126Z
LAST-MODIFIED:20250531T071257Z
UID:14185-1744243200-1758412799@www.gopinathgaudiyamath.com
SUMMARY:Srila Gurudev's International Tour
DESCRIPTION:
URL:https://www.gopinathgaudiyamath.com/event/srila-gurudevs-international-tour/
ATTACH;FMTTYPE=image/jpeg:https://www.gopinathgaudiyamath.com/wp-content/uploads/2025/05/123456.jpg
END:VEVENT
BEGIN:VEVENT
DTSTART;VALUE=DATE:20250518
DTEND;VALUE=DATE:20250522
DTSTAMP:20260424T031915
CREATED:20241127T131901Z
LAST-MODIFIED:20250416T173922Z
UID:13857-1747526400-1747871999@www.gopinathgaudiyamath.com
SUMMARY:Seattle Tour 2025
DESCRIPTION:🌸 Saturday\, May 18th\n📍 Hemant & Radhapriya Devi Dasi’s HomeBellevue\, WA \n\n🌼 Sunday\, May 19th\n📍 Vishaka Devi Dasi’s Home15406 NE 13th Place\, Apt 1808Bellevue\, WA 98007 \n\n🌺 Monday\, May 20th\n📍 Dhanlaxmi Devi Dasi’s Home15043 NE 8th PlaceBellevue\, WA 98007 \n\n🌷 Tuesday\, May 21st\n📍 RadhaRaman Prabhu’s Home1027 141st St SWLynnwood\, WA 98087 \n\n💐 Wednesday\, May 22nd\n📍 Nama Devi Dasi’s Home15833 NE 59th WayRedmond\, WA \n  \nContact – Dhanasri devi  – dpdeshmukh12@gmail.com – 4259564044
URL:https://www.gopinathgaudiyamath.com/event/seattle-tour-2025/
ATTACH;FMTTYPE=image/jpeg:https://www.gopinathgaudiyamath.com/wp-content/uploads/2024/11/WhatsApp-Image-2025-04-15-at-16.55.12_360f30a5.jpg
END:VEVENT
BEGIN:VEVENT
DTSTART;VALUE=DATE:20250521
DTEND;VALUE=DATE:20250528
DTSTAMP:20260424T031915
CREATED:20241127T132014Z
LAST-MODIFIED:20250522T144611Z
UID:13860-1747785600-1748390399@www.gopinathgaudiyamath.com
SUMMARY:Vancouver/Kelona Tour 2025
DESCRIPTION:
URL:https://www.gopinathgaudiyamath.com/event/vancouver-kelona-tour-2025/
ATTACH;FMTTYPE=application/pdf:https://www.gopinathgaudiyamath.com/wp-content/uploads/2024/11/Untitled-5.8-x-8.3-in-1.pdf
END:VEVENT
END:VCALENDAR