BEGIN:VCALENDAR
VERSION:2.0
PRODID:-//Sri Gopinath Gaudiya Math - ECPv6.15.18//NONSGML v1.0//EN
CALSCALE:GREGORIAN
METHOD:PUBLISH
X-WR-CALNAME:Sri Gopinath Gaudiya Math
X-ORIGINAL-URL:https://www.gopinathgaudiyamath.com
X-WR-CALDESC:Events for Sri Gopinath Gaudiya Math
REFRESH-INTERVAL;VALUE=DURATION:PT1H
X-Robots-Tag:noindex
X-PUBLISHED-TTL:PT1H
BEGIN:VTIMEZONE
TZID:Asia/Kolkata
BEGIN:STANDARD
TZOFFSETFROM:+0530
TZOFFSETTO:+0530
TZNAME:IST
DTSTART:20240101T000000
END:STANDARD
END:VTIMEZONE
BEGIN:VEVENT
DTSTART;VALUE=DATE:20250410
DTEND;VALUE=DATE:20250921
DTSTAMP:20260424T031916
CREATED:20250531T071126Z
LAST-MODIFIED:20250531T071257Z
UID:14185-1744243200-1758412799@www.gopinathgaudiyamath.com
SUMMARY:Srila Gurudev's International Tour
DESCRIPTION:
URL:https://www.gopinathgaudiyamath.com/event/srila-gurudevs-international-tour/
ATTACH;FMTTYPE=image/jpeg:https://www.gopinathgaudiyamath.com/wp-content/uploads/2025/05/123456.jpg
END:VEVENT
BEGIN:VEVENT
DTSTART;VALUE=DATE:20250507
DTEND;VALUE=DATE:20250516
DTSTAMP:20260424T031916
CREATED:20241127T131444Z
LAST-MODIFIED:20250413T054830Z
UID:13851-1746576000-1747353599@www.gopinathgaudiyamath.com
SUMMARY:San Francisco Tour 2025
DESCRIPTION:🌼 Friday\, May 9th – Public Program\n🕠 5:30 PM – 8:30 PM📍 Renew Yoga35 Petaluma Blvd\, Petaluma\, CA📞 Reservation: 415-444-6560💰 Cost: Free (Donations Welcome) \n\n🧘‍♀️ Saturday & Sunday\, May 10th–11th – Bhakti Retreat\n📍 Mandala Springs Retreat CenterCobb Mountain\, CA(Full weekend retreat – see retreat poster for details) \n\n🌿 Monday\, May 12th – Vrindavan Farms Gathering\n🕔 5:00 PM – 9:00 PM📍 Vrindavan Farms222 Montura Way\, Novato\, CA📞 RSVP: 415-233-1944
URL:https://www.gopinathgaudiyamath.com/event/san-francisco-tour-2025/
ATTACH;FMTTYPE=image/jpeg:https://www.gopinathgaudiyamath.com/wp-content/uploads/2024/11/Screenshot-2025-04-11-at-12.23.04 PM.jpeg
END:VEVENT
BEGIN:VEVENT
DTSTART;VALUE=DATE:20250515
DTEND;VALUE=DATE:20250519
DTSTAMP:20260424T031916
CREATED:20241127T131701Z
LAST-MODIFIED:20250414T233720Z
UID:13854-1747267200-1747612799@www.gopinathgaudiyamath.com
SUMMARY:Portland Tour 2025
DESCRIPTION:🪷 Thursday\, May 15th – Portland\n🕔 Time: 5:00 PM – 7:00 PM🏠 Host: Devadeva Das & Subhadra Devi Dasi📍 Address: 8023 N John Ave\, Portland\, OR 97203📞 Subhadra Devi Dasi: 503-998-9621📞 Devadeva Das: 503-927-9276 \n\n🪷 Friday\, May 16th – Eugene\n🕠 Time: 5:30 PM onwards🏠 Host: Prahlad Prabhu & Anuradha Devi Dasi📍 Address: 490 W 28th Ave\, Eugene\, OR 97405📞 Phone: 541-222-0234 \n\n🪷 Saturday\, May 17th – Eugene\n🏠 Host: Hari Om Prabhu📍 Address: 3350 S. Lambert Street\, Eugene\, OR 97405📞 Phone: 541-255-7677
URL:https://www.gopinathgaudiyamath.com/event/portland-tour-2025/
END:VEVENT
END:VCALENDAR